BEGIN:VCALENDAR
VERSION:2.0
PRODID:-//Wheeling 250 - ECPv4.7.2//NONSGML v1.0//EN
CALSCALE:GREGORIAN
METHOD:PUBLISH
X-WR-CALNAME:Wheeling 250
X-ORIGINAL-URL:https://wheeling250.net
X-WR-CALDESC:Events for Wheeling 250
BEGIN:VEVENT
DTSTART;TZID=America/New_York:20190826T183000
DTEND;TZID=America/New_York:20190826T183000
DTSTAMP:20260426T034352
CREATED:20190103T175732Z
LAST-MODIFIED:20190903T193751Z
UID:304-1566844200-1566844200@wheeling250.net
SUMMARY:Civil War Roundtable: “Carlin’s Battery & Capt. John Carlin” by Ed Phillips
DESCRIPTION:View Presentation Video \nFree. \n
URL:https://wheeling250.net/event/civil-war-roundtable-carlins-battery-capt-john-carlin-by-ed-phillips/
LOCATION:Ohio County Public Library\, 52 Sixteenth Street\, Wheeling\, WV\, 26003\, United States
CATEGORIES:Civil War Roundtable
END:VEVENT
END:VCALENDAR