BEGIN:VCALENDAR
VERSION:2.0
PRODID:-//Wheeling 250 - ECPv4.7.2//NONSGML v1.0//EN
CALSCALE:GREGORIAN
METHOD:PUBLISH
X-WR-CALNAME:Wheeling 250
X-ORIGINAL-URL:https://wheeling250.net
X-WR-CALDESC:Events for Wheeling 250
BEGIN:VEVENT
DTSTART;TZID=America/New_York:20190831T100000
DTEND;TZID=America/New_York:20190901T170000
DTSTAMP:20260426T000550
CREATED:20190102T214410Z
LAST-MODIFIED:20190102T214410Z
UID:252-1567245600-1567357200@wheeling250.net
SUMMARY:Fort Henry Days
DESCRIPTION:Free. 10 to 5 daily. \n
URL:https://wheeling250.net/event/fort-henry-days/
LOCATION:Site One\, Oglebay Park\, 465 Lodge Drive\, Wheeling\, WV\, 26003\, United States
END:VEVENT
END:VCALENDAR