BEGIN:VCALENDAR
VERSION:2.0
PRODID:-//Wheeling 250 - ECPv4.7.2//NONSGML v1.0//EN
CALSCALE:GREGORIAN
METHOD:PUBLISH
X-WR-CALNAME:Wheeling 250
X-ORIGINAL-URL:https://wheeling250.net
X-WR-CALDESC:Events for Wheeling 250
BEGIN:VEVENT
DTSTART;VALUE=DATE:20190913
DTEND;VALUE=DATE:20190914
DTSTAMP:20260425T204657
CREATED:20190802T151508Z
LAST-MODIFIED:20190911T142938Z
UID:1877-1568332800-1568419199@wheeling250.net
SUMMARY:Gateway Clipper Day Excursions & Fireworks Cruise
DESCRIPTION:Tickets for the fireworks cruise are sold out! Tickets for the day excursions are still available!\n \nDay river excursions will depart from Heritage Port at 3:00\, 4:00 and 5:00. The cost is $15 for adults and $1 for children 10 years old and younger. \nThe fireworks cruise will depart at 7:00. The experience includes buffet dinner and live music. The cost is $75 per guest. \nTickets are available at the WesBanco box office or online at the links below. \nDay Excursions: \n\n3:00 – https://www.etix.com/ticket/p/7874782/gateway-clipper-river-cruise-wheeling-wheeling-heritage-port\n4:00 – https://www.etix.com/ticket/p/2185324/gateway-clipper-river-cruise-wheeling-wheeling-heritage-port\n5:00 – https://www.etix.com/ticket/p/4757144/gateway-clipper-river-cruise-wheeling-wheeling-heritage-port\n\n
URL:https://wheeling250.net/event/gateway-clipper-day-excursions-fireworks-cruise/
LOCATION:Wheeling Heritage Port\, 378G+V4\, Wheeling\, WV\, 26003\, United States
END:VEVENT
END:VCALENDAR