BEGIN:VCALENDAR
VERSION:2.0
PRODID:-//Wheeling 250 - ECPv4.7.2//NONSGML v1.0//EN
CALSCALE:GREGORIAN
METHOD:PUBLISH
X-WR-CALNAME:Wheeling 250
X-ORIGINAL-URL:https://wheeling250.net
X-WR-CALDESC:Events for Wheeling 250
BEGIN:VEVENT
DTSTART;TZID=America/New_York:20190623T080000
DTEND;TZID=America/New_York:20190623T080000
DTSTAMP:20260425T170711
CREATED:20190102T213658Z
LAST-MODIFIED:20200116T210524Z
UID:248-1561276800-1561276800@wheeling250.net
SUMMARY:Historic Wheeling Bicycle Tour\, sponsored by the Friends of Wheeling
DESCRIPTION:Free. Beginning at the north Centre Market\, 2200 block of Market Street. \nSponsored by the Friends of Wheeling\, Ohio Valley Trail Partners and Bike Wheeling \nVisit 14 historic sites on your bike starting at Centre Market\, touring Chapline and Market Streets\, crossing the Wheeling Suspension Bridge to Wheeling Island\, and returning to Centre Market via Main Street. \n
URL:https://wheeling250.net/event/historic-wheeling-bicycle-tour/
LOCATION:Upper end of Centre Market\, 2200 Market St\, Wheeling\, WV\, 26003\, United States
END:VEVENT
END:VCALENDAR