BEGIN:VCALENDAR
VERSION:2.0
PRODID:-//Wheeling 250 - ECPv4.7.2//NONSGML v1.0//EN
CALSCALE:GREGORIAN
METHOD:PUBLISH
X-WR-CALNAME:Wheeling 250
X-ORIGINAL-URL:https://wheeling250.net
X-WR-CALDESC:Events for Wheeling 250
BEGIN:VEVENT
DTSTART;TZID=America/New_York:20190827T190000
DTEND;TZID=America/New_York:20190827T203000
DTSTAMP:20260426T015625
CREATED:20190724T154259Z
LAST-MODIFIED:20190724T154259Z
UID:1869-1566932400-1566937800@wheeling250.net
SUMMARY:Peoples University\, "Labor Movement in Wheeling"\, Class No. 4
DESCRIPTION:CLASS 4: AUGUST 27\nAuditorium\, Ohio County Public Library \nTHE REUTHERS \nPerhaps no American family is more important to labor history than the Reuthers of Wheeling. From patriarch Valentine\, a German immigrant and socialist firebrand\, to his sons Roy\, Victor\, and Walter\, all instrumental in the growth of the UAW\, the Reuthers were essential leaders in the development of labor unions locally\, nationally\, and around the world. \nINSTRUCTOR: PATRICK CASSIDY\, ESQ.\n
URL:https://wheeling250.net/event/peoples-university-labor-movement-in-wheeling-class-no-4/
LOCATION:Ohio County Public Library\, 52 Sixteenth Street\, Wheeling\, WV\, 26003\, United States
END:VEVENT
END:VCALENDAR