BEGIN:VCALENDAR
VERSION:2.0
PRODID:-//Wheeling 250 - ECPv4.7.2//NONSGML v1.0//EN
CALSCALE:GREGORIAN
METHOD:PUBLISH
X-WR-CALNAME:Wheeling 250
X-ORIGINAL-URL:https://wheeling250.net
X-WR-CALDESC:Events for Wheeling 250
BEGIN:VEVENT
DTSTART;TZID=America/New_York:20190903T190000
DTEND;TZID=America/New_York:20190903T203000
DTSTAMP:20260425T184043
CREATED:20190724T154604Z
LAST-MODIFIED:20190724T154629Z
UID:1871-1567537200-1567542600@wheeling250.net
SUMMARY:Peoples University\, "Labor Movement in Wheeling"\, Class No. 5
DESCRIPTION:CLASS 5: SEPTEMBER 3\nAuditorium\, Ohio County Public Library\nPROGRESSIVE OWNERSHIP: WHEELING’S TOBACCO INDUSTRY\nThis program will explore Wheeling’s tobacco industry\, from the origins of production\, importance of the transportation nexus\, the role of German makers\, the peak years of output\, the union disputes between cigar and stogie makers on the national labor scene\, the contributions of owners like Pollack and Bloch\, and interesting facts and figures\, such as strippers and left and right cigars.\nINSTRUCTOR: DR. DAVID JAVERSAK\n
URL:https://wheeling250.net/event/peoples-university-labor-movement-in-wheeling-class-no-5/
LOCATION:Ohio County Public Library\, 52 Sixteenth Street\, Wheeling\, WV\, 26003\, United States
END:VEVENT
END:VCALENDAR