BEGIN:VCALENDAR
VERSION:2.0
PRODID:-//Wheeling 250 - ECPv4.7.2//NONSGML v1.0//EN
CALSCALE:GREGORIAN
METHOD:PUBLISH
X-WR-CALNAME:Wheeling 250
X-ORIGINAL-URL:https://wheeling250.net
X-WR-CALDESC:Events for Wheeling 250
BEGIN:VEVENT
DTSTART;TZID=America/New_York:20190620T121500
DTEND;TZID=America/New_York:20190620T121500
DTSTAMP:20260425T184406
CREATED:20181217T212907Z
LAST-MODIFIED:20190213T214910Z
UID:89-1561032900-1561032900@wheeling250.net
SUMMARY:Pop-Up History: Eleanor Caldwell\, portrayed by Laurie Ruberg
DESCRIPTION:Eleanor Caldwell\, Wheeling Symphony founder\, presented by Laurie Ruberg. \n
URL:https://wheeling250.net/event/pop-up-history-eleanor-caldwell/
LOCATION:Capitol Theatre\, 1015 Main Street\, Wheeling\, WV\, 26003\, United States
CATEGORIES:Pop-Up History
END:VEVENT
END:VCALENDAR