BEGIN:VCALENDAR
VERSION:2.0
PRODID:-//Wheeling 250 - ECPv4.7.2//NONSGML v1.0//EN
CALSCALE:GREGORIAN
METHOD:PUBLISH
X-WR-CALNAME:Wheeling 250
X-ORIGINAL-URL:https://wheeling250.net
X-WR-CALDESC:Events for Wheeling 250
BEGIN:VEVENT
DTSTART;TZID=America/New_York:20190621T170000
DTEND;TZID=America/New_York:20190621T170000
DTSTAMP:20260425T170555
CREATED:20190422T130354Z
LAST-MODIFIED:20200109T155622Z
UID:702-1561136400-1561136400@wheeling250.net
SUMMARY:US Custom House 160th Anniversary Reception\, Hosted by the WV Department of Arts\, Culture and History
DESCRIPTION:Completed in 1859\, Wheeling’s US Custom House\, birthplace of the State\, is observing its 160th anniversary this year! Celebrate this historic structure’s birthday milestone at an open house and reception at 5:00. Hosted by the West Virginia Department of Arts\, Culture and History. \n
URL:https://wheeling250.net/event/us-custom-house-160th-anniversary/
LOCATION:West Virginia Independence Hall\, 1528 Market Street\, Wheeling\, WV\, 26003\, United States
END:VEVENT
END:VCALENDAR