BEGIN:VCALENDAR
VERSION:2.0
PRODID:-//Wheeling 250 - ECPv4.7.2//NONSGML v1.0//EN
CALSCALE:GREGORIAN
METHOD:PUBLISH
X-WR-CALNAME:Wheeling 250
X-ORIGINAL-URL:https://wheeling250.net
X-WR-CALDESC:Events for Wheeling 250
BEGIN:VEVENT
DTSTART;TZID=America/New_York:20190620T120000
DTEND;TZID=America/New_York:20190620T120000
DTSTAMP:20260425T204651
CREATED:20190422T130234Z
LAST-MODIFIED:20190422T130234Z
UID:700-1561032000-1561032000@wheeling250.net
SUMMARY:West Virginia Day
DESCRIPTION:The 156th anniversary of West Virginia Statehood will be celebrated with a special program and birthday cake at West Virginia Independence Hall. \n
URL:https://wheeling250.net/event/west-virginia-day/
LOCATION:West Virginia Independence Hall\, 1528 Market Street\, Wheeling\, WV\, 26003\, United States
END:VEVENT
END:VCALENDAR