BEGIN:VCALENDAR
VERSION:2.0
PRODID:-//Wheeling 250 - ECPv4.7.2//NONSGML v1.0//EN
CALSCALE:GREGORIAN
METHOD:PUBLISH
X-WR-CALNAME:Wheeling 250
X-ORIGINAL-URL:https://wheeling250.net
X-WR-CALDESC:Events for Wheeling 250
BEGIN:VEVENT
DTSTART;TZID=America/New_York:20190907T130000
DTEND;TZID=America/New_York:20190907T140000
DTSTAMP:20260425T151115
CREATED:20190102T214800Z
LAST-MODIFIED:20190904T233939Z
UID:258-1567861200-1567864800@wheeling250.net
SUMMARY:Wheeling 250 Parade
DESCRIPTION:Free.\nThe parade will feature “The Pride of West Virginia”\, the WVU Mountaineer Marching Band\, and the US Army Old Guard Fife and Drum Corps\, the Official Ceremonial Unit and Escort to the President of the United States\, along with the 249th US Army Band\, the West Liberty University Marching Hilltoppers Band and St. Clairsville High School and Wheeling Park High School Marching Bands.\nConfirmed parade marshals include West Virginia Governor James C. Justice III\, US Senator Shelley Moore Capito\, US Representative David B. McKinley\,  West Virginia Arts\, Culture and History Curator Randall Reid-Smith and WVU President Gordon Gee and Laurie Erickson.\n\n  \n
URL:https://wheeling250.net/event/wheeling-250-parade/
LOCATION:Market and Main Streets\, Wheeling\, WV\, Market and Main Streets\, Wheeling\, WV\, 26003\, United States
END:VEVENT
END:VCALENDAR