BEGIN:VCALENDAR
VERSION:2.0
PRODID:-//Wheeling 250 - ECPv4.7.2//NONSGML v1.0//EN
CALSCALE:GREGORIAN
METHOD:PUBLISH
X-WR-CALNAME:Wheeling 250
X-ORIGINAL-URL:https://wheeling250.net
X-WR-CALDESC:Events for Wheeling 250
BEGIN:VEVENT
DTSTART;TZID=America/New_York:20190901T193000
DTEND;TZID=America/New_York:20190901T193000
DTSTAMP:20260425T220626
CREATED:20190102T211146Z
LAST-MODIFIED:20190104T183448Z
UID:237-1567366200-1567366200@wheeling250.net
SUMMARY:Wheeling Symphony Orchestra 90th Anniversary Concert
DESCRIPTION:Wheeling Symphony Orchestra 90th anniversary concert – “Music Under the Stars”\nFree. \n
URL:https://wheeling250.net/event/wheeling-symphony-orchestra-90th-anniversary-concert/
LOCATION:Anne Kuchinka Amphitheater\, Oglebay Park\, 465 Lodge Drive\, Wheeling\, WV\, 26003\, United States
CATEGORIES:Music & Theatre
END:VEVENT
END:VCALENDAR